BEGIN:VCALENDAR
VERSION:2.0
PRODID:-//Southwest Montana Intranet Website - ECPv6.15.20//NONSGML v1.0//EN
CALSCALE:GREGORIAN
METHOD:PUBLISH
X-WR-CALNAME:Southwest Montana Intranet Website
X-ORIGINAL-URL:https://members.southwestmt.com
X-WR-CALDESC:Events for Southwest Montana Intranet Website
REFRESH-INTERVAL;VALUE=DURATION:PT1H
X-Robots-Tag:noindex
X-PUBLISHED-TTL:PT1H
BEGIN:VTIMEZONE
TZID:America/Denver
BEGIN:DAYLIGHT
TZOFFSETFROM:-0700
TZOFFSETTO:-0600
TZNAME:MDT
DTSTART:20240310T090000
END:DAYLIGHT
BEGIN:STANDARD
TZOFFSETFROM:-0600
TZOFFSETTO:-0700
TZNAME:MST
DTSTART:20241103T080000
END:STANDARD
BEGIN:DAYLIGHT
TZOFFSETFROM:-0700
TZOFFSETTO:-0600
TZNAME:MDT
DTSTART:20250309T090000
END:DAYLIGHT
BEGIN:STANDARD
TZOFFSETFROM:-0600
TZOFFSETTO:-0700
TZNAME:MST
DTSTART:20251102T080000
END:STANDARD
BEGIN:DAYLIGHT
TZOFFSETFROM:-0700
TZOFFSETTO:-0600
TZNAME:MDT
DTSTART:20260308T090000
END:DAYLIGHT
BEGIN:STANDARD
TZOFFSETFROM:-0600
TZOFFSETTO:-0700
TZNAME:MST
DTSTART:20261101T080000
END:STANDARD
BEGIN:DAYLIGHT
TZOFFSETFROM:-0700
TZOFFSETTO:-0600
TZNAME:MDT
DTSTART:20270314T090000
END:DAYLIGHT
BEGIN:STANDARD
TZOFFSETFROM:-0600
TZOFFSETTO:-0700
TZNAME:MST
DTSTART:20271107T080000
END:STANDARD
END:VTIMEZONE
BEGIN:VEVENT
DTSTART;VALUE=DATE:20251017
DTEND;VALUE=DATE:20251018
DTSTAMP:20260423T031938
CREATED:20250910T203736Z
LAST-MODIFIED:20251008T172852Z
UID:2298-1760659200-1760745599@members.southwestmt.com
SUMMARY:Cooperative Marketing Program Application (2025 Cycle) Due
DESCRIPTION:
URL:https://members.southwestmt.com/event/cooperative-marketing-program-application-2025-cycle-due/
END:VEVENT
BEGIN:VEVENT
DTSTART;TZID=America/Denver:20251023T130000
DTEND;TZID=America/Denver:20251023T150000
DTSTAMP:20260423T031938
CREATED:20251014T175746Z
LAST-MODIFIED:20251016T202054Z
UID:2336-1761224400-1761231600@members.southwestmt.com
SUMMARY:October 2025 Membership Meeting
DESCRIPTION:Helena – Broadwater Hot Springs\, 4920 W US Hwy 12 \nRSVP to office@southwestmt.com or please call 406-846-1943. If you do not RSVP\, please join us anyway – we still want your presence.       \nGeneral Board Meeting
URL:https://members.southwestmt.com/event/october-2025-membership-meeting/
END:VEVENT
BEGIN:VEVENT
DTSTART;TZID=America/Denver:20251204T130000
DTEND;TZID=America/Denver:20251204T150000
DTSTAMP:20260423T031938
CREATED:20251014T175956Z
LAST-MODIFIED:20251125T211624Z
UID:2340-1764853200-1764860400@members.southwestmt.com
SUMMARY:December 2025 Membership Meeting
DESCRIPTION:General Board Meeting \nLee Jewell Conference Center at Deer Lodge at Deer Lodge Medical Center\, 1100 Hollenback Rd Deer Lodge. \nRespond to office@southwestmt.com to RSVP or please call 406-846-1943.\nIf you did not RSVP\, please join us anyway – we still want your presence.\nRegular Meeting: 1:00 p.m.
URL:https://members.southwestmt.com/event/december-2025-membership-meeting/
END:VEVENT
BEGIN:VEVENT
DTSTART;TZID=America/Denver:20260122T130000
DTEND;TZID=America/Denver:20260122T150000
DTSTAMP:20260423T031938
CREATED:20260120T192350Z
LAST-MODIFIED:20260120T192350Z
UID:2357-1769086800-1769094000@members.southwestmt.com
SUMMARY:Southwest Montana General Meeting - January 2026
DESCRIPTION:You’re invited to our January SW Montana Board Meeting! \nThe Abbi Agency will be joining us to share an update on the new campaign—this is an important update you won’t want to miss.\nWe hope to see you there!
URL:https://members.southwestmt.com/event/southwest-montana-general-meeting-january-2026/
LOCATION:Butte-Silver Bow Library\, 226 W Broadway St\, Butte\, 59701\, United States
END:VEVENT
BEGIN:VEVENT
DTSTART;VALUE=DATE:20260220
DTEND;VALUE=DATE:20260221
DTSTAMP:20260423T031938
CREATED:20260130T000551Z
LAST-MODIFIED:20260130T001021Z
UID:2388-1771545600-1771631999@members.southwestmt.com
SUMMARY:Cooperative Marketing Program Application - DUE by EMAIL
DESCRIPTION:Email submissions must be sent to office@southwestmt.com no later than Friday\, February 20\, 2026.
URL:https://members.southwestmt.com/event/cooperative-marketing-program-application-due-by-email/
END:VEVENT
BEGIN:VEVENT
DTSTART;VALUE=DATE:20260223
DTEND;VALUE=DATE:20260224
DTSTAMP:20260423T031938
CREATED:20260129T235851Z
LAST-MODIFIED:20260130T000514Z
UID:2384-1771804800-1771891199@members.southwestmt.com
SUMMARY:Cooperative Marketing Program Application - DUE by MAIL
DESCRIPTION:Mailed applications must be received by Monday\, February 23\, 2026\, and sent to:\nVisit Southwest Montana\nP.O. Box 28\nDeer Lodge\, MT 59722
URL:https://members.southwestmt.com/event/cooperative-marketing-program-application-due/
END:VEVENT
BEGIN:VEVENT
DTSTART;TZID=America/Denver:20260226T130000
DTEND;TZID=America/Denver:20260226T150000
DTSTAMP:20260423T031938
CREATED:20260123T202141Z
LAST-MODIFIED:20260205T224333Z
UID:2365-1772110800-1772118000@members.southwestmt.com
SUMMARY:Southwest Montana General Membership Meeting - February 2026
DESCRIPTION:Helena Chamber of Commerce\n225 Cruse Avenue\nHelena\, MT 59601
URL:https://members.southwestmt.com/event/southwest-montana-general-membership-meeting-february-2026/
END:VEVENT
BEGIN:VEVENT
DTSTART;TZID=America/Denver:20260326T130000
DTEND;TZID=America/Denver:20260326T150000
DTSTAMP:20260423T031938
CREATED:20260123T202228Z
LAST-MODIFIED:20260123T202228Z
UID:2367-1774530000-1774537200@members.southwestmt.com
SUMMARY:Southwest Montana General Membership Meeting - March 2026
DESCRIPTION:Location in Townsend (TBD)
URL:https://members.southwestmt.com/event/southwest-montana-general-membership-meeting-march-2026/
END:VEVENT
BEGIN:VEVENT
DTSTART;TZID=America/Denver:20260423T130000
DTEND;TZID=America/Denver:20260423T150000
DTSTAMP:20260423T031938
CREATED:20260123T202329Z
LAST-MODIFIED:20260423T001047Z
UID:2369-1776949200-1776956400@members.southwestmt.com
SUMMARY:Southwest Montana General Membership Meeting - April 2026
DESCRIPTION:ZOOM\nhttps://us06web.zoom.us/j/89165633232?pwd=Fp0K1sdbVGisNAUE305zmHgWu81URD.1\nAgenda
URL:https://members.southwestmt.com/event/southwest-montana-general-membership-meeting-april-2026/
END:VEVENT
BEGIN:VEVENT
DTSTART;TZID=America/Denver:20260528T130000
DTEND;TZID=America/Denver:20260528T150000
DTSTAMP:20260423T031938
CREATED:20260123T202412Z
LAST-MODIFIED:20260123T202412Z
UID:2371-1779973200-1779980400@members.southwestmt.com
SUMMARY:Southwest Montana General Membership Meeting - May 2026
DESCRIPTION:Location in Marysville
URL:https://members.southwestmt.com/event/southwest-montana-general-membership-meeting-may-2026/
END:VEVENT
BEGIN:VEVENT
DTSTART;VALUE=DATE:20260615
DTEND;VALUE=DATE:20260616
DTSTAMP:20260423T031938
CREATED:20250910T203847Z
LAST-MODIFIED:20250910T203847Z
UID:2300-1781481600-1781567999@members.southwestmt.com
SUMMARY:Invoices and Completion Reports for Cooperative Marketing Program (2025 Cycle) Due
DESCRIPTION:
URL:https://members.southwestmt.com/event/invoices-and-completion-reports-for-cooperative-marketing-program-2025-cycle-due/
END:VEVENT
BEGIN:VEVENT
DTSTART;TZID=America/Denver:20260924T130000
DTEND;TZID=America/Denver:20260924T150000
DTSTAMP:20260423T031938
CREATED:20260123T202450Z
LAST-MODIFIED:20260123T202450Z
UID:2373-1790254800-1790262000@members.southwestmt.com
SUMMARY:Southwest Montana General Membership Meeting - September 2026
DESCRIPTION:Location in Dillon
URL:https://members.southwestmt.com/event/southwest-montana-general-membership-meeting-september-2026/
END:VEVENT
BEGIN:VEVENT
DTSTART;TZID=America/Denver:20261022T130000
DTEND;TZID=America/Denver:20261022T150000
DTSTAMP:20260423T031938
CREATED:20260123T202528Z
LAST-MODIFIED:20260123T202528Z
UID:2375-1792674000-1792681200@members.southwestmt.com
SUMMARY:Southwest Montana General Membership Meeting - October 2026
DESCRIPTION:Location in Deer Lodge
URL:https://members.southwestmt.com/event/southwest-montana-general-membership-meeting-october-2026/
END:VEVENT
BEGIN:VEVENT
DTSTART;TZID=America/Denver:20261119T130000
DTEND;TZID=America/Denver:20261119T150000
DTSTAMP:20260423T031938
CREATED:20260123T202607Z
LAST-MODIFIED:20260123T202607Z
UID:2377-1795093200-1795100400@members.southwestmt.com
SUMMARY:Southwest Montana General Membership Meeting - November 2026
DESCRIPTION:Location in Butte
URL:https://members.southwestmt.com/event/southwest-montana-general-membership-meeting-november-2026/
END:VEVENT
BEGIN:VEVENT
DTSTART;TZID=America/Denver:20261217T130000
DTEND;TZID=America/Denver:20261217T150000
DTSTAMP:20260423T031938
CREATED:20260123T202647Z
LAST-MODIFIED:20260123T202647Z
UID:2379-1797512400-1797519600@members.southwestmt.com
SUMMARY:Southwest Montana General Membership Meeting - December 2026
DESCRIPTION:Location in Helena
URL:https://members.southwestmt.com/event/southwest-montana-general-membership-meeting-december-2026/
END:VEVENT
END:VCALENDAR