BEGIN:VCALENDAR
VERSION:2.0
PRODID:-//Southwest Montana Intranet Website - ECPv6.15.20//NONSGML v1.0//EN
CALSCALE:GREGORIAN
METHOD:PUBLISH
X-WR-CALNAME:Southwest Montana Intranet Website
X-ORIGINAL-URL:https://members.southwestmt.com
X-WR-CALDESC:Events for Southwest Montana Intranet Website
REFRESH-INTERVAL;VALUE=DURATION:PT1H
X-Robots-Tag:noindex
X-PUBLISHED-TTL:PT1H
BEGIN:VTIMEZONE
TZID:America/Denver
BEGIN:DAYLIGHT
TZOFFSETFROM:-0700
TZOFFSETTO:-0600
TZNAME:MDT
DTSTART:20210314T090000
END:DAYLIGHT
BEGIN:STANDARD
TZOFFSETFROM:-0600
TZOFFSETTO:-0700
TZNAME:MST
DTSTART:20211107T080000
END:STANDARD
BEGIN:DAYLIGHT
TZOFFSETFROM:-0700
TZOFFSETTO:-0600
TZNAME:MDT
DTSTART:20220313T090000
END:DAYLIGHT
BEGIN:STANDARD
TZOFFSETFROM:-0600
TZOFFSETTO:-0700
TZNAME:MST
DTSTART:20221106T080000
END:STANDARD
BEGIN:DAYLIGHT
TZOFFSETFROM:-0700
TZOFFSETTO:-0600
TZNAME:MDT
DTSTART:20230312T090000
END:DAYLIGHT
BEGIN:STANDARD
TZOFFSETFROM:-0600
TZOFFSETTO:-0700
TZNAME:MST
DTSTART:20231105T080000
END:STANDARD
BEGIN:DAYLIGHT
TZOFFSETFROM:-0700
TZOFFSETTO:-0600
TZNAME:MDT
DTSTART:20240310T090000
END:DAYLIGHT
BEGIN:STANDARD
TZOFFSETFROM:-0600
TZOFFSETTO:-0700
TZNAME:MST
DTSTART:20241103T080000
END:STANDARD
BEGIN:DAYLIGHT
TZOFFSETFROM:-0700
TZOFFSETTO:-0600
TZNAME:MDT
DTSTART:20250309T090000
END:DAYLIGHT
BEGIN:STANDARD
TZOFFSETFROM:-0600
TZOFFSETTO:-0700
TZNAME:MST
DTSTART:20251102T080000
END:STANDARD
END:VTIMEZONE
BEGIN:VTIMEZONE
TZID:UTC
BEGIN:STANDARD
TZOFFSETFROM:+0000
TZOFFSETTO:+0000
TZNAME:UTC
DTSTART:20210101T000000
END:STANDARD
END:VTIMEZONE
BEGIN:VEVENT
DTSTART;TZID=America/Denver:20240926T100000
DTEND;TZID=America/Denver:20240926T130000
DTSTAMP:20260423T054700
CREATED:20240913T231128Z
LAST-MODIFIED:20240913T231128Z
UID:2053-1727344800-1727355600@members.southwestmt.com
SUMMARY:Southwest Montana September Meeting
DESCRIPTION:Meeting is at the Butte Silver Bow Library\, 3rd floor\, 226 W. Broadway Street in Historic Uptown Butte.  \nEveryone is welcome. Lunch is $10.  \nPlease RSVP by Monday\, September 23. You can Email office@southwestmt.com to RSVP or please call 406-846-1943. We would like to get a lunch count. If you did not\nRSVP\, please join us anyway – we still want your presence.  \nRegular Meeting: 10:00 a.m.
URL:https://members.southwestmt.com/event/southwest-montana-september-meeting-2/
END:VEVENT
BEGIN:VEVENT
DTSTART;VALUE=DATE:20240618
DTEND;VALUE=DATE:20240619
DTSTAMP:20260423T054700
CREATED:20240609T052035Z
LAST-MODIFIED:20240609T052035Z
UID:1988-1718668800-1718755199@members.southwestmt.com
SUMMARY:Frontline Tour to Virginia City and Nevada City
DESCRIPTION:This is the perfect way to experience VC/NC; taking in the sights\, sounds\, and hospitality of these gems in our region.  The deadline for reserving your spot is approaching\, June 12th.  To save your spot(s) send an email to Maria via prmanager@southwestmt.com
URL:https://members.southwestmt.com/event/frontline-tour-to-virginia-city-and-nevada-city/
END:VEVENT
BEGIN:VEVENT
DTSTART;VALUE=DATE:20240612
DTEND;VALUE=DATE:20240613
DTSTAMP:20260423T054700
CREATED:20240609T052151Z
LAST-MODIFIED:20240609T052151Z
UID:1989-1718150400-1718236799@members.southwestmt.com
SUMMARY:Reservation for Frontline Tour to VC and NC
DESCRIPTION:Save your spot by contacting Maria. \nMaria Pochervina\nprmanager@southwestmt.com\n406-491-5350
URL:https://members.southwestmt.com/event/reservation-for-frontline-tour-to-vc-and-nc/
END:VEVENT
BEGIN:VEVENT
DTSTART;TZID=America/Denver:20240516T100000
DTEND;TZID=America/Denver:20240516T130000
DTSTAMP:20260423T054700
CREATED:20240419T195622Z
LAST-MODIFIED:20240507T192819Z
UID:1970-1715853600-1715864400@members.southwestmt.com
SUMMARY:Brochure Exchange and monthly meeting
DESCRIPTION:Copper Village Museum – 401 E. Commercial Ave.    \nLunch is $15\, Tex Mex catered by Jordi’s Cantina.\nPlease RSVP by Monday\, May 13\, 2024. You can Email info@southwestmt.com to RSVP or please call 406-846-1943.\nWe would like to get a lunch count.  If you did not RSVP\, please join us anyway – we still want your presence.\nRegular Meeting: 10:00 a.m.
URL:https://members.southwestmt.com/event/brochure-exchange/
END:VEVENT
BEGIN:VEVENT
DTSTART;TZID=America/Denver:20240515T090000
DTEND;TZID=America/Denver:20240515T123000
DTSTAMP:20260423T054700
CREATED:20240510T211417Z
LAST-MODIFIED:20240510T211649Z
UID:1982-1715763600-1715776200@members.southwestmt.com
SUMMARY:Agency Oral Interviews
DESCRIPTION:Butte Chamber of Commerce at 1000 George. St. \n  \n9:00 – 9:45 Abbi Agency\n10:00 – 10:45 Amplified Digital\n11:00 – 11:45 Madden\n12:00 Public Comment\nDiscussion and Scoring\nAdjourn
URL:https://members.southwestmt.com/event/agency-oral-interviews/
END:VEVENT
BEGIN:VEVENT
DTSTART;TZID=America/Denver:20240509T090000
DTEND;TZID=America/Denver:20240509T110000
DTSTAMP:20260423T054700
CREATED:20240429T202528Z
LAST-MODIFIED:20240429T210122Z
UID:1973-1715245200-1715252400@members.southwestmt.com
SUMMARY:RFP Scoring Zoom Meeting
DESCRIPTION:Visit Southwest Montana is inviting you to a scheduled Zoom meeting. \nTopic: Visit Southwest Montana Zoom Meeting\nTime: May 9\, 2024 09:00 AM Mountain Time (US and Canada) \nJoin Zoom Meeting\nhttps://us06web.zoom.us/j/85131605947 \nMeeting ID: 851 3160 5947 \n— \nOne tap mobile\n+17207072699\,\,85131605947# US (Denver)\n+12532050468\,\,85131605947# US \n— \nDial by your location\n• +1 720 707 2699 US (Denver)\n• +1 253 205 0468 US\n• +1 253 215 8782 US (Tacoma)\n• +1 346 248 7799 US (Houston)\n• +1 669 444 9171 US\n• +1 719 359 4580 US\n• +1 646 558 8656 US (New York)\n• +1 646 931 3860 US\n• +1 689 278 1000 US\n• +1 301 715 8592 US (Washington DC)\n• +1 305 224 1968 US\n• +1 309 205 3325 US\n• +1 312 626 6799 US (Chicago)\n• +1 360 209 5623 US\n• +1 386 347 5053 US\n• +1 507 473 4847 US\n• +1 564 217 2000 US \nMeeting ID: 851 3160 5947 \nFind your local number: https://us06web.zoom.us/u/kdZ1IYXSH8
URL:https://members.southwestmt.com/event/rfp-scoring-zoom-meeting/
END:VEVENT
BEGIN:VEVENT
DTSTART;TZID=America/Denver:20240503T120000
DTEND;TZID=America/Denver:20240503T120000
DTSTAMP:20260423T054700
CREATED:20240308T182443Z
LAST-MODIFIED:20240308T183442Z
UID:1924-1714737600-1714737600@members.southwestmt.com
SUMMARY:Advertising Agency RFP due
DESCRIPTION:Due at noon \nView Details
URL:https://members.southwestmt.com/event/advertising-agency-rfp-due/
END:VEVENT
BEGIN:VEVENT
DTSTART;TZID=America/Denver:20240426T100000
DTEND;TZID=America/Denver:20240426T120000
DTSTAMP:20260423T054700
CREATED:20240327T221620Z
LAST-MODIFIED:20240419T195530Z
UID:1946-1714125600-1714132800@members.southwestmt.com
SUMMARY:April Membership Meeting
DESCRIPTION:This meeting has been changed to Zoom only due to conflicts. \nWe will have a shortened meeting with major points being the FY 25 Plan and updates to the bylaws.\nOur Brochure Exchange is moved to Thursday\, May 16th.   \nJoin Zoom Meeting\nhttps://us06web.zoom.us/j/84584337858
URL:https://members.southwestmt.com/event/april-membership-meeting/
END:VEVENT
BEGIN:VEVENT
DTSTART;TZID=America/Denver:20240321T100000
DTEND;TZID=America/Denver:20240321T130000
DTSTAMP:20260423T054700
CREATED:20240311T224713Z
LAST-MODIFIED:20240311T225120Z
UID:1932-1711015200-1711026000@members.southwestmt.com
SUMMARY:March General Membership Meeting
DESCRIPTION:General Board Meeting – Townsend\, American Legion\, 211 Broadway St. \nEveryone is welcome. Taco Bar for lunch. Please RSVP by Monday\, March 18 to info@southwestmt.com or 406-846-1943 to get a lunch count. If you did not RSVP\, please join us anyway.
URL:https://members.southwestmt.com/event/march-general-membership-meeting/
END:VEVENT
BEGIN:VEVENT
DTSTART;TZID=America/Denver:20240319T170000
DTEND;TZID=America/Denver:20240319T170000
DTSTAMP:20260423T054700
CREATED:20240202T225248Z
LAST-MODIFIED:20240311T224442Z
UID:1905-1710867600-1710867600@members.southwestmt.com
SUMMARY:Cooperative Marketing Grant Application Due for March Meeting
DESCRIPTION:Cooperative Grant App.
URL:https://members.southwestmt.com/event/cooperative-marketing-grant-application-due-for-march-meeting/
END:VEVENT
BEGIN:VEVENT
DTSTART;TZID=America/Denver:20240222T100000
DTEND;TZID=America/Denver:20240222T130000
DTSTAMP:20260423T054700
CREATED:20240226T210122Z
LAST-MODIFIED:20240226T210122Z
UID:1910-1708596000-1708606800@members.southwestmt.com
SUMMARY:February member meeting
DESCRIPTION:Dillon Bank of Commerce\n110 S. Idaho St.  \nRegular meeting 10 am
URL:https://members.southwestmt.com/event/february-member-meeting/
END:VEVENT
BEGIN:VEVENT
DTSTART;TZID=America/Denver:20240215T170000
DTEND;TZID=America/Denver:20240215T170000
DTSTAMP:20260423T054700
CREATED:20240202T225152Z
LAST-MODIFIED:20240202T225555Z
UID:1903-1708016400-1708016400@members.southwestmt.com
SUMMARY:Cooperative Marketing Grant Application Due
DESCRIPTION:Cooperative Grant App.
URL:https://members.southwestmt.com/event/cooperative-marketing-grant-application-due/
END:VEVENT
BEGIN:VEVENT
DTSTART;TZID=America/Denver:20240125T100000
DTEND;TZID=America/Denver:20240125T130000
DTSTAMP:20260423T054700
CREATED:20240117T205713Z
LAST-MODIFIED:20240117T205713Z
UID:1895-1706176800-1706187600@members.southwestmt.com
SUMMARY:January Monthly Membership Meeting
DESCRIPTION:Meeting is at the Forge in Anaconda. 100 Union Avenue. Everyone is welcome. Regular Meeting: 10:00 a.m. \nLunch is Taco Bar – $15 \nPlease RSVP by Monday\, January 22. You can email info@southwestmt.com or call 406-846-1943. We would like to get a lunch count.  \nIf you do not RSVP\, please join us anyway – we still want your presence.
URL:https://members.southwestmt.com/event/january-monthly-membership-meeting/
END:VEVENT
BEGIN:VEVENT
DTSTART;VALUE=DATE:20231213
DTEND;VALUE=DATE:20231214
DTSTAMP:20260423T054700
CREATED:20231212T214433Z
LAST-MODIFIED:20231212T214433Z
UID:1878-1702425600-1702511999@members.southwestmt.com
SUMMARY:Public Relations Manager position closes
DESCRIPTION:
URL:https://members.southwestmt.com/event/public-relations-manager-position-closes/
END:VEVENT
BEGIN:VEVENT
DTSTART;TZID=America/Denver:20231120T100000
DTEND;TZID=America/Denver:20231120T120000
DTSTAMP:20260423T054700
CREATED:20231120T222935Z
LAST-MODIFIED:20231120T222951Z
UID:1870-1700474400-1700481600@members.southwestmt.com
SUMMARY:Monthly meeting - Zoom
DESCRIPTION:Meeting is on Zoom.  Everyone is welcome.\nRegular Meeting: 10:00 a.m.         \nhttps://us06web.zoom.us/j/88154512857
URL:https://members.southwestmt.com/event/monthly-meeting-zoom/
END:VEVENT
BEGIN:VEVENT
DTSTART;TZID=America/Denver:20231101T100000
DTEND;TZID=America/Denver:20231101T130000
DTSTAMP:20260423T054700
CREATED:20231023T215433Z
LAST-MODIFIED:20231023T215545Z
UID:1860-1698832800-1698843600@members.southwestmt.com
SUMMARY:Southwest Montana - Fall Meeting
DESCRIPTION:Meeting at the Jefferson County Fairgrounds\n21 Whitetail Road\nLunch is $15\nPlease RSVP by October 30\, 2023 \nYou can email info@southwestmt.com to RSVP or please call 406-846-1943. We would like to get a lunch count.  If you did not RSVP\, please join us anyway – we still want your presence.       \nRegular Meeting: 10 a.m.
URL:https://members.southwestmt.com/event/southwest-montana-fall-meeting/
END:VEVENT
BEGIN:VEVENT
DTSTART;TZID=America/Denver:20230927T100000
DTEND;TZID=America/Denver:20230927T130000
DTSTAMP:20260423T054700
CREATED:20230822T194442Z
LAST-MODIFIED:20230919T193607Z
UID:1641-1695808800-1695819600@members.southwestmt.com
SUMMARY:September Meeting
DESCRIPTION:Butte Depot\, 818 S Arizona St.  \nOur speaker will be the Coraggio Group talking about the Resiliency Plan for Southwest Montana.This next meeting will be on a Wednesday\, and lunch will be $15. Please RSVP by Monday\, September 25. You can email info@southwestmt.com to RSVP or please call 406-846-1943. We would like to get a lunch count.  If you did not RSVP\, please join us anyway – we still want your presence.
URL:https://members.southwestmt.com/event/september-meeting/
END:VEVENT
BEGIN:VEVENT
DTSTART;VALUE=DATE:20230921
DTEND;VALUE=DATE:20230922
DTSTAMP:20260423T054700
CREATED:20230907T222324Z
LAST-MODIFIED:20230907T222439Z
UID:1774-1695254400-1695340799@members.southwestmt.com
SUMMARY:Cooperative Marketing application DUE!
DESCRIPTION:
URL:https://members.southwestmt.com/event/cooperative-marketing-application-due/
END:VEVENT
BEGIN:VEVENT
DTSTART;TZID=America/Denver:20230420T103000
DTEND;TZID=America/Denver:20230420T140000
DTSTAMP:20260423T054700
CREATED:20230410T183627Z
LAST-MODIFIED:20230410T183627Z
UID:1622-1681986600-1681999200@members.southwestmt.com
SUMMARY:April Meeting
DESCRIPTION:Location: The Pen\, 925 Main St.\, Deer Lodge.\nEveryone is welcome. Lunch is $10. Please RSVP by Monday\, 17. Email info@southwestmt.com to RSVP or call 406-846-1943. We would like to get a lunch count.  If you did not RSVP\, please join us anyway – we still want your presence.  \nRegular Meeting: 10:30 a.m.        Executive Board meeting – 9:30 a.m. \nBrochure Exchange – Bring your brochures\, take other brochures back with you.  You might want to bring a box to carry them. Make sure to take what you have left back with you. \nFree Pass to the Prison / Car Museums
URL:https://members.southwestmt.com/event/april-meeting/
END:VEVENT
BEGIN:VEVENT
DTSTART;TZID=America/Denver:20230323T103000
DTEND;TZID=America/Denver:20230323T130000
DTSTAMP:20260423T054700
CREATED:20230228T000749Z
LAST-MODIFIED:20230313T162524Z
UID:1580-1679567400-1679576400@members.southwestmt.com
SUMMARY:March Membership Meeting
DESCRIPTION:location: Pintler’s Portal Hostel\n218 W Park St.\nAnaconda \nEmail info@southwestmt.com to RSVP or call 406-846-1943. We would like to get a lunch count.\nIf you did not RSVP\, please join us anyway – we still want your presence. \nRegular Meeting 10:30 a.m.\nExecutive Board Meeting 9:30 a.m.
URL:https://members.southwestmt.com/event/march-membership-meeting/
END:VEVENT
BEGIN:VEVENT
DTSTART;TZID=America/Denver:20230223T103000
DTEND;TZID=America/Denver:20230223T140000
DTSTAMP:20260423T054700
CREATED:20221207T224518Z
LAST-MODIFIED:20230219T152553Z
UID:1425-1677148200-1677160800@members.southwestmt.com
SUMMARY:February Membership Meeting
DESCRIPTION:SWMT General Meeting via Zoom \nExecutive Board meeting – 9:30 a.m. (see email for Zoom link)\nRegular Meeting: 10:30 a.m. \nJoin Regular Zoom Meeting at 10:30am\nhttps://us06web.zoom.us/j/87540897203 \nYou can email info@southwestmt.com or call 406-846-1943 with questions.
URL:https://members.southwestmt.com/event/february-membership-meeting/
END:VEVENT
BEGIN:VEVENT
DTSTART;TZID=America/Denver:20230126T120000
DTEND;TZID=America/Denver:20230126T163000
DTSTAMP:20260423T054700
CREATED:20230119T193218Z
LAST-MODIFIED:20230119T195038Z
UID:1434-1674734400-1674750600@members.southwestmt.com
SUMMARY:Committee Meeting for Mission
DESCRIPTION:Facilitated by Sarah De Money to discuss mission statement and foundation before the marketing plan for fiscal year 23/24.\nMeeting is open to the public.
URL:https://members.southwestmt.com/event/committee-meeting-for-mission/
END:VEVENT
BEGIN:VEVENT
DTSTART;TZID=America/Denver:20230123T130000
DTEND;TZID=America/Denver:20230123T150000
DTSTAMP:20260423T054700
CREATED:20230113T191012Z
LAST-MODIFIED:20230113T191012Z
UID:1429-1674478800-1674486000@members.southwestmt.com
SUMMARY:Town Hall Virtual Meeting
DESCRIPTION:Coraggio has offered to host an additional virtual town hall for Southwest Montana and is inviting anyone who hasn’t participated yet in this project to register and join.\nRegister for Town Hall here \nSouthwest MT Town Hall Flyer
URL:https://members.southwestmt.com/event/town-hall-virtual-meeting/
END:VEVENT
BEGIN:VEVENT
DTSTART;TZID=America/Denver:20221215T100000
DTEND;TZID=America/Denver:20221215T130000
DTSTAMP:20260423T054700
CREATED:20221207T224237Z
LAST-MODIFIED:20221207T224237Z
UID:1423-1671098400-1671109200@members.southwestmt.com
SUMMARY:Membership Committee Meeting
DESCRIPTION:Butte Chamber of Commerce and Visitor Center
URL:https://members.southwestmt.com/event/membership-committee-meeting/
END:VEVENT
BEGIN:VEVENT
DTSTART;TZID=UTC:20221117T103000
DTEND;TZID=UTC:20221117T140000
DTSTAMP:20260423T054700
CREATED:20221102T002011Z
LAST-MODIFIED:20221108T064310Z
UID:1410-1668681000-1668693600@members.southwestmt.com
SUMMARY:Southwest Montana November membership meeting
DESCRIPTION:Meeting location: Helena Chamber of Commerce \nKey agenda items:\nChoose Travel Planner cover\nStakeholders meeting with Coraggio Group \nRSVP by Monday\, November 14\ninfo@southwestmt.com\n406-846-1943
URL:https://members.southwestmt.com/event/november-meeting/
END:VEVENT
BEGIN:VEVENT
DTSTART;TZID=UTC:20221027T100000
DTEND;TZID=UTC:20221027T130000
DTSTAMP:20260423T054700
CREATED:20221012T002448Z
LAST-MODIFIED:20221018T023517Z
UID:1391-1666864800-1666875600@members.southwestmt.com
SUMMARY:Southwest Montana Monthly Meeting
DESCRIPTION:Reading Leaves Book Store\n401 Broadway\nTownsend\, MT
URL:https://members.southwestmt.com/event/southwest-montana-monthly-meeting-2/
END:VEVENT
BEGIN:VEVENT
DTSTART;TZID=UTC:20220922T100000
DTEND;TZID=UTC:20220922T140000
DTSTAMP:20260423T054700
CREATED:20220910T050526Z
LAST-MODIFIED:20220910T050551Z
UID:1365-1663840800-1663855200@members.southwestmt.com
SUMMARY:Southwest Montana Meeting
DESCRIPTION:General membership meeting\nBoulder Creek Lodge\n4 Boulder Road\nHall\, MT \nSpeaker: Dax Schieffer\, Voices of Montana Tourism \nRSVP to info@southwestmt.com or 406-846-1943 \nNo executive board meeting
URL:https://members.southwestmt.com/event/southwest-montana/
END:VEVENT
BEGIN:VEVENT
DTSTART;TZID=UTC:20220519T100000
DTEND;TZID=UTC:20220519T133000
DTSTAMP:20260423T054700
CREATED:20220301T060728Z
LAST-MODIFIED:20220516T225303Z
UID:1137-1652954400-1652967000@members.southwestmt.com
SUMMARY:Southwest Montana May Meeting
DESCRIPTION:The Forge in Anaconda\nLunch will be $10. Please RSVP by Monday\, May 16th.\nEmail info@southwestmt.com to RSVP or please call 406-846-1943.
URL:https://members.southwestmt.com/event/southwest-montana-may-meeting/
END:VEVENT
BEGIN:VEVENT
DTSTART;TZID=UTC:20220428T100000
DTEND;TZID=UTC:20220428T140000
DTSTAMP:20260423T054700
CREATED:20220422T222119Z
LAST-MODIFIED:20220422T222251Z
UID:1147-1651140000-1651154400@members.southwestmt.com
SUMMARY:Southwest Montana Meeting - April
DESCRIPTION:Borden’s Conference Room – Whitehall\n103 West Legion Ave.\n(park on Main St. and use that door to enter conference room) \nExecutive meeting 9:00 am \n  \nPlease RSVP by Monday\, April 23. Email info@southwestmt.com to RSVP or call 406-846-1943.\nWe would like to get a lunch count – $10. If you did not RSVP\, please join us anyway – we still want your presence.
URL:https://members.southwestmt.com/event/southwest-montana-meeting-april/
END:VEVENT
BEGIN:VEVENT
DTSTART;TZID=UTC:20220324T090000
DTEND;TZID=UTC:20220324T170000
DTSTAMP:20260423T054700
CREATED:20220301T060557Z
LAST-MODIFIED:20220301T060557Z
UID:1133-1648112400-1648141200@members.southwestmt.com
SUMMARY:Southwest Montana Work Retreat
DESCRIPTION:Full work day\nThe Forge Hotel\nAnaconda\, Montana
URL:https://members.southwestmt.com/event/southwest-montana-work-retreat/
END:VEVENT
END:VCALENDAR